BEGIN:VCALENDAR
VERSION:2.0
PRODID:-//DP Pro Event Calendar//3.2.6//EN
BEGIN:VEVENT
UID:3586f915-796e-494f-917e-bb22bc41cf76
DTSTART;TZID=Europe/Rome:20240323T103000
DTEND;TZID=Europe/Rome:20240323T103000
DTSTAMP:20240308T120314Z
SUMMARY:Bardunfula Festival ArtInsieme : laboratori artistico creativi
DESCRIPTION:Ore  10:30\r \n \r \n ArtInsieme : laboratori artistico creativi\r \n con Rosalba Massidda arte terapeuta iscritta apiart 604\r \n Entreremo in un giardino alla scoperta delle sue creature e lo faremo immaginando tra pittura\, forme e colori ispiratə dal libro “Un altro giardino” di Emma Giuliani\, Edizioni Timpetil\r \n Il Laboratorio è rivolto a bambinə dai 4 anni (con adulto)\, ai 10 anni.\r \n Per iscrizioni compilare il modulo che trovate a questo link https://bit.ly/artinsieme\r \n Per info e costi potrete anche chiamare o scrivire al 3515616082
LOCATION:Il Colombre
URL:
ATTACH;FMTTYPE=image/jpeg:https://cientro.it/wp-content/uploads/2024/03/430075110_896736638908929_4603487414563553235_n.jpg
END:VEVENT
END:VCALENDAR