BEGIN:VCALENDAR
VERSION:2.0
PRODID:-//DP Pro Event Calendar//3.2.6//EN
BEGIN:VEVENT
UID:5c4f639f-7f46-4473-91de-6fb9f2a2d950
DTSTART;TZID=Europe/Rome:20240217T103000
DTEND;TZID=Europe/Rome:20240217T190000
DTSTAMP:20240216T112357Z
SUMMARY:Piazza bella piazza
DESCRIPTION:\r \n \r \n \r \n \r \n Piazza bella piazza\r \n Sabato 17 febbraio 2024\r \n \r \n \r \n a Sassari in via San Cristoforo\, proprio accanto alla scuola elementare\, dalle ore 10.30 alle 13:30 e dalle 16:00 alle 19:00\r \n (facciamo giusto una pausa pranzo)\r \n \r \n Crediamo che le strade sicure siamo noi a farle\, sono le persone che attraversano e vivono le vie che fanno le strade sicure\, non abbiamo bisogno di eserciti\, abbiamo bisogno di incontrarci di nuovo\, di stupirci nel guardare la nostra città\, riprendere i fili della complessità per costruire una comunità educante!\r \n \r \n \r \n Arriveranno gli amici e le amiche di Tricirco con il loro Ludobus e sarà un delirio giocoso con i piccoli e grandi giochi in legno!  Un vero luna park ma con giochi che... beh venite a giocare con nonne\, nonni\, zii\, cugini\, cugine\, matrigne\, patrigni\, cani\, gatti\, gufi\, topi\, babbo\, mamma e Toshio...\r \n Avete mai provato a realizzare un graffito\, un opera di street art? Non si fa?\r \n A piazza bella piazza si fa eccome\, a guidarci l'artista Roberto Chessa (dai 7 anni fino ai 130 anni\, per partecipare al murales scrivete al 3515616082\r \n \r \n \r \n \r \n CORIANDOLI DI MATERNAGE.. PAESE DA CUI VENGO\,CULTURA CHE PORTO! E poi che ne dite di uno spazio interattivo dedicato alla future e neo mamme e ai loro bebè in cui\, si potrà trovare un angolo dedicato e confortevole per accudire\, condividere e arricchirsi insieme?\r \n I neogenitori potranno lasciare una traccia artistica\, testimonianza del loro viaggio genitoriale\, preziosa per dar voce ai bisogni e ai desideri delle famiglie. A curare questo spazio sarà Elena la doula.\r \n Che cos'è una doula? Una doula è una figura professionale di sostegno che si occupa del benessere psicofisico della donna e della famiglia\, dalla gravidanza fino al primo anno di vita del bambino.\r \n Alle 11.00 siamo tuttə invitatə a partecipare al grande girotondo: in tondo per un bel mondo!\r \n Diamoci la mano per costruire insieme un ponte per un futuro colorato sempre più a misura di bambinə.\r \n \r \n \r \n Alle 17:00 ci sarà la premiazione del Torneo di Eleonora D'Arborea!\r \n E allora ci vediamo in piazza!\r \n \r \n \r \n L'evento fa parte del calendario Sassari Carnevale ed è realizzato con il contributo del Comune di Sassari.\r \n \r \n \r \n Comune di Sassari Comune di Sassari - Cultura Turismo Sassari La Volpe Bianca - Centro Xylo Laura Useri Assessore alla Cultura Politiche Educative e Pari opportunità\r \n 
LOCATION:Centro storico
URL:
ATTACH;FMTTYPE=image/jpeg:https://cientro.it/wp-content/uploads/2024/02/426362036_378055808195659_3350201135418438125_n-732x1024.jpg
END:VEVENT
END:VCALENDAR