BEGIN:VCALENDAR
VERSION:2.0
PRODID:-//DP Pro Event Calendar//3.2.6//EN
BEGIN:VEVENT
UID:64c81e7a-3411-48ed-a566-702c5844f5c0
DTSTART;TZID=Europe/Rome:20221009T093000
DTEND;TZID=Europe/Rome:20221009T133000
DTSTAMP:20221005T121012Z
SUMMARY:Giallo in Pinacoteca - laboratorio didattico
DESCRIPTION:\r \n Ripartono in Pinacoteca i laboratori didattici\, ricchi di argomenti e attività diverse. Tante proposte e tante possibilità per classi\, programmi e interessi differenti.\r \n Nella Pinacoteca Nazionale di Sassari\, dalle 9.30 alle 13.30\, va in scena Giallo in Pinacoteca!\r \n \r \n \r \n \r \n \r \n Un laboratorio didattico simile ad una caccia al tesoro preceduta da una visita guidata che parte dall’osservazione dei ritratti presenti in Pinacoteca. Qui i piccoli visitatori apprenderanno notizie e conoscenze sui personaggi ritratti e gli autori delle opere\, per poi indossare le vesti di investigatori e scoprire\, con l’aiuto dei genitori\, chi\, tra i personaggi dei nostri dipinti\, ha commesso un diabolico furto.\r \n Il laboratorio si ripeterà durante la mattina alle 10.00 e 11.30.\r \n In alternativa\, con "Barocco a tavola" si gioca e s’impara il meraviglioso racconto della natura morta .\r \n \r \n \r \n 
LOCATION:Piazza Santa Caterina
URL:
ATTACH;FMTTYPE=image/jpeg:https://cientro.it/wp-content/uploads/2022/10/IMG-20221005-WA0011-724x1024.jpg
END:VEVENT
END:VCALENDAR