BEGIN:VCALENDAR
VERSION:2.0
PRODID:-//DP Pro Event Calendar//3.2.6//EN
BEGIN:VEVENT
UID:ffa7a23e-7c72-4782-9a9c-350612ef90b4
DTSTART;TZID=Europe/Rome:20220826T000000
DTEND;TZID=Europe/Rome:20220826T000000
DTSTAMP:20220708T231523Z
SUMMARY:Discovery Sardinia Festival
DESCRIPTION:Discovery Sardinia Festival\r \n \r \n Giardini Pubblici\r \n \r \n Associazione Culturale Mossa
LOCATION:Via Tavolara
URL:
ATTACH;FMTTYPE=image/jpeg:https://cientro.it/wp-content/uploads/2022/07/disc-1024x1024.jpeg
END:VEVENT
END:VCALENDAR