BEGIN:VCALENDAR
VERSION:2.0
PRODID:-//DP Pro Event Calendar//3.2.6//EN
BEGIN:VEVENT
UID:0b8e9f54-bf34-4a43-b073-177f2002aff0
DTSTART;TZID=Europe/Rome:20220730T210000
DTEND;TZID=Europe/Rome:20220730T210000
DTSTAMP:20220706T231156Z
SUMMARY:Spettacolo teatrale Lu macchini anda a cundiddura
DESCRIPTION:• ore 21.00\r \n \r \n Spettacolo teatrale Lu macchini anda a cundiddura\r \n \r \n Istituto Comprensivo “Farina – San Giuseppe”\r \n \r \n Compagnia Teatrale Nino Costa
LOCATION:Corso Francesco Cossiga\, 6\, 07100 Sassari SS
URL:https://www.compagniateatraleninocosta.cloud/spettacoli-imminenti.html
ATTACH;FMTTYPE=image/jpeg:https://cientro.it/wp-content/uploads/2022/07/Locandina-lu-macchini-1_psie034k.jpeg
END:VEVENT
END:VCALENDAR