BEGIN:VCALENDAR
VERSION:2.0
PRODID:-//DP Pro Event Calendar//3.2.6//EN
BEGIN:VEVENT
UID:10d19ffe-a2f7-4827-882c-74506f16d8d0
DTSTART;TZID=Europe/Rome:20220513T100000
DTEND;TZID=Europe/Rome:20220513T190000
DTSTAMP:20220506T170756Z
SUMMARY:Family Friendly FEST 2022
DESCRIPTION:Dalle 10.00 alle 19.00\r \n Giardini pubblici\r \n Family Friendly FEST 2022\r \n Sassari un territorio amico della famiglia\r \n Baby and Family e Associazione LINK - Legami di\r \n fraternità
LOCATION:Via Tavolara
URL:
ATTACH;FMTTYPE=image/jpeg:https://cientro.it/wp-content/uploads/2022/05/FAMILY-1024x512.jpg
END:VEVENT
END:VCALENDAR