BEGIN:VCALENDAR
VERSION:2.0
PRODID:-//DP Pro Event Calendar//3.2.6//EN
BEGIN:VEVENT
UID:19481cb2-2135-4027-ac10-726a63f7b6b7
DTSTART;TZID=Europe/Rome:20220502T103000
DTEND;TZID=Europe/Rome:20220502T123000
DTSTAMP:20220502T154450Z
SUMMARY:Dal regista all'attore - Masterclass con Anna Destefanis
DESCRIPTION:2 maggio 2022\, MASEDU\r \n Masterclass con Anna Destefanis\r \n Conducono Davide Bini e Silvio Farina\r \n 2 3 4 5 6 Maggio 2022\r \n Orari: 10:30 / 12:30\r \n Evento in presenza - presso il Museo MasEdu\r \n Un ciclo di tre incontri teorico-pratici sulla relazione artistica e creativa tra regista e attore. I primi due incontri\, della durata di due ore l'uno\, sono pensati per tutto il gruppo che desidera partecipare alla masterclass\; Nel terzo modulo si prevede di suddividere il gruppo in 3 sottogruppi di lavoro e di focalizzare il lavoro sulla relazione tra regista e attore in rapporto diretto con le diverse sceneggiature elaborate dagli studenti.\r \n ANNA DESTEFANIS: Fondatrice\, performer e co-regista del collettivo “Codice Ivan”\, compagnia parte del gruppo Fies Factory\, un progetto di Centrale Fies. Da subito il lavoro del gruppo si orienta principalmente verso le arti performative/teatrali ma avviando anche un percorso di ricerca attraverso altri formati (installazioni\, video e mostre). Nel 2009 Codice Ivan produce lo spettacolo "Pink\, Me &amp\; The Roses"\, con cui vince il Premio Scenario. Nel 2011 con il progetto SCORE vince il Transart Prize.\r \n Membro Fondatore\, direttore organizzativo e parte del comitato artistico del FAF\, Florence Art Factory\, per il quale progetta e organizza innumerevoli eventi artistici e culturali\, residenze creative e laboratori artistici. Si occupa della logistica dell'edizione zero del "Festival Dentro! Arti in scena dal vivo" un’iniziativa realizzata nell’ambito del progetto "Riassetto del sistema teatrale della Toscana" in collaborazione con Luca Camilletti e Laboratorio Nove.\r \n Art director del progetto MUSE\, un progetto di residenze artistiche rivolto alla produzione di spettacoli dal vivo\, che nasce dal desiderio di stimolare l’incontro tra alcuni artisti della scena performativa contemporanea con alcuni degli aspetti più rilevanti della tradizione culturale e antropologica del territorio. Il progetto è realizzato da Compagnia B in partnership con il CESP di Nuoro e con il sostegno della Regione Sardegna e del Ministero dei beni e delle attività culturali e del turismo. 
LOCATION:via Mons. Antonio Piga 7
URL:
ATTACH;FMTTYPE=image/jpeg:https://cientro.it/wp-content/uploads/2022/05/24_1651499095_32471d87565e53dddb7af5260b4a20c0-1024x679.jpg
END:VEVENT
END:VCALENDAR