BEGIN:VCALENDAR
VERSION:2.0
PRODID:-//DP Pro Event Calendar//3.2.6//EN
BEGIN:VEVENT
UID:f7ccb3a6-b261-499d-8851-661b2b41e597
DTSTART;TZID=Europe/Rome:20220320T200000
DTEND;TZID=Europe/Rome:20220320T230000
DTSTAMP:20220321T085213Z
SUMMARY:Sassari BlaBla Language Exchange (currently online)
DESCRIPTION:21 marzo 2022\, ore 20\r \n This event is currently online.\r \n 👉🦸‍♂️ / 🦸‍♀️ If you would like to become a BlaBla Language Exchange event organizer in your city and manage real events\, do not hesitate to join our community as volunteer: www.blablalanguageexchange.com/join-us\r \n 👉 To give you an idea of how we work\, we invite you to watch our videos on our website or to follow us on our social networks.\r \n ........................................\r \n Regarding our online events\, we give our members the opportunity to communicate in a language already learned. We are not a language school\, we do not give language courses\, we are specialized in events and international meetings.\r \n The language tables put at your disposal are as follows:\r \n 🇬🇧 English\, 🇫🇷 French\, 🇧🇷 / 🇵🇹 Portuguese\, 🇪🇸 Spanish\, 🇮🇹 Italian\, 🇩🇪 German\, 🇳🇱 Dutch\, 🇵🇱 Polish\, 🇷🇺 Russian\, 🇸🇪 Swedish\, 🇬🇷 Greek\, 🇨🇳 Chinese\, 🇯🇵 Japanese\, 🇰🇷 Korean\, 🇻🇳 Vietnamese\, 🇲🇦 / 🇪🇬 Arabic\, 🇹🇷 Turkish.\r \n ........................................\r \n 👉🔔 Please register to participate in the events. Our events are free and accessible to all.\r \n See you soon 🙂
LOCATION:ONLINE
URL:www.blablalanguageexchange.com/join-us
ATTACH;FMTTYPE=image/jpeg:https://cientro.it/wp-content/uploads/2022/03/24_1647813426_1789a7f1b06b5d5a00d7409dcb676194-1024x1024.jpg
END:VEVENT
END:VCALENDAR