BEGIN:VCALENDAR
VERSION:2.0
PRODID:-//DP Pro Event Calendar//3.2.6//EN
BEGIN:VEVENT
UID:77014a8c-b2b3-41ce-bc09-323221b2c33d
DTSTART;TZID=Europe/Rome:20220315T000000
DTEND;TZID=Europe/Rome:20220315T000000
DTSTAMP:20220318T100819Z
SUMMARY:Il Barbiere di Siviglia
DESCRIPTION:Teatro Comunale di Sassari\, 15/03/2022 ore 21\r \n Biglietto platea: € 26\r \n Produzione: Compagnia Artemis Danza/Monica Casadei\, Italian Festival in Thailand (Bangkok)\r \n Musicista: Luca Vianini\r \n Coreografo: Monica Casadei\r \n \r \n Artemis Danza affronta uno dei titoli più celebri del maestro pesarese: Il Barbiere di Siviglia. Uno spettacolo che Monica Casadei vuole definire come un avveniristico “balletto d’azione” e che\, come di consueto\, coinvolgerà tutto il consolidato corpo creativo di Artemis\, \r \n \r \n Nella lettura di Monica Casadei Figaro è il prototipo dell’uomo di successo nel mondo di oggi. Inguainato in rigorosi abiti manageriali\, l’eroe rossiniano diventa l’emblema di chi riesce a soddisfare con efficacia le aspettative di una società che impone ogni giorno di raggiungere i propri obiettivi ottimizzando tempi ed energie. Sul piano coreografico\, il personaggio di Figaro si moltiplica nei corpi dell’intera compagnia\, dove\, senza distinzioni di gender\, gli interpreti manipolano il tempo e lo spazio.
LOCATION:Teatro Comunale
URL:https://www.happyticket.it/sassari/acquista-biglietti/pianta/196030/470081.htm
ATTACH;FMTTYPE=image/jpeg:https://cientro.it/wp-content/uploads/2022/03/24_1647364605_4a43d4479b43d6b391d15a1591dc2e6b-853x1024.jpeg
END:VEVENT
END:VCALENDAR