BEGIN:VCALENDAR
VERSION:2.0
PRODID:-//DP Pro Event Calendar//3.2.6//EN
BEGIN:VEVENT
UID:b1dde608-d65e-47d8-875e-497679020fe3
DTSTART;TZID=Europe/Rome:20220305T100000
DTEND;TZID=Europe/Rome:20220305T123000
DTSTAMP:20220303T101225Z
SUMMARY:A SCUOLA DALLE FOGLIE // PICCOLI ERBARI
DESCRIPTION:dalle 10:00 alle 12:30\r \n A SCUOLA DALLE FOGLIE // PICCOLI ERBARI\r \n Laboratorio di raccolta e disegno a tecnica mista per bambini dai 3 ai 6 anni.a cura di OCRA in collaborazione con Spazioperaria A volte il bosco sembra un libro da sfogliare\, i suoi rami parole su cui arrampicarsi\, le sue foglie storie da raccontare.\r \n Ma com'è fatto davvero un bosco ?\r \n Quanti tipi di foglie diverse esistono?\r \n Cosa sono le impronte di un albero ?\r \n \r \n  Attraversando il bosco osserveremo gli alberi e le piante\, ascolteremo il fruscìo del vento\, ne sentiremo il respiro\, toccheremo le foglie per imparare a riconoscerle\, ne osserveremo la forma e la grana.\r \n Passo dopo passo potremo\, con cura\, raccoglierne alcune.\r \n \r \n Le disegneremo\, ne "prenderemo le impronte”\, creeremo il nostro piccolo erbario: un libretto prezioso\, una personalissima collezione per custodire le foglie che ci sono piaciute di più\, un piccolo oggetto d’arte che potremo portare a casa per imparare pian piano a conoscere e riconoscere le piante\, ricordarci della bellezza e degli insegnamenti del bosco.\r \n \r \n    E per gli adulti accompagnatori sarà possibile partecipare al laboratorio oppure rilassarsi nella zona amache e tisane.\r \n \r \n  a BADU CANU\, OSILO (20 minuti di macchina da Sassari)\r \n https://maps.google.com/?q=40.714920\,8.643198\r \n \r \n Solo su prenotazione - Posti limitati \r \n \r \n Piccoli Erbari\, fa parte di “A Scuola dalle foglie”\, una nuova iniziativa di laboratori a tema ambientale e artistico curata da Ocra nel magico bosco di Badu Canu .\r \n .\r \n .\r \n \r \n 
LOCATION:BADU CANU
URL:
ATTACH;FMTTYPE=image/jpeg:https://cientro.it/wp-content/uploads/2022/03/274864943_123366743593575_4103947397860698984_n-1024x1024.jpg
END:VEVENT
END:VCALENDAR