BEGIN:VCALENDAR
VERSION:2.0
PRODID:-//DP Pro Event Calendar//3.2.6//EN
BEGIN:VEVENT
UID:cb614ccd-249b-4d93-a742-1ed04418bb57
DTSTART;TZID=Europe/Rome:20220219T100000
DTEND;TZID=Europe/Rome:20220219T173000
DTSTAMP:20220216T110355Z
SUMMARY:LA PARATA DELLE MASCHERE SELVATICHE
DESCRIPTION:SABATO 19 FEBBRAIO(2 repliche)\r \n dalle 10:00 alle 12:30\r \n Oppure dalle 15:00 alle 17:30\r \n \r \n a cura di Ocra e La Tribù\,\r \n in coproduzione con S’ala.\r \n \r \n 🦄 🪅🥁Sabato 19 Febbraio festeggeremo il Carnevale ricalcandone i rituali contadini più antichi: assembleremo insieme un fantoccio totem sacrificale e dopo aver costruito tamburi e sonagli\, avanzeremo a ritmo di parata per celebrare la fine dell'inverno e l’arrivo della primavera.\r \n Chi sono le strane creature che incontreremo questa volta nel Bosco ?\r \n Unisciti a noi e alla nostra Parata delle maschere selvatiche!\r \n \r \n 🚙 a BADU CANU\, OSILO (20 minuti di macchina da Sassari)\r \n https://maps.google.com/?q=40.714920\,8.643198\r \n \r \n ✨Un avventura per grandi e piccini !\r \n Solo su prenotazione - Posti limitati✨\r \n \r \n 👉🏽Per info +333 4390544\r \n \r \n 🌳🎨 “LA PARATA DELLE MASCHERE SELVATICHE” fa parte di “LE MERENDE NEL BOSCO” una serie di eventi che si susseguiranno durante l’anno con tematiche e attività artistiche sempre diverse\, destinate a bambini dai 2 anni in su e ai loro genitori. Le merende prevedono una forma di evento ibrida in cui laboratori creativi e teatro immersivo e site specific sono in costante dialogo e confronto tra loro e con l'ambiente naturale e “magico” che li ospita.
LOCATION:BADU CANU
URL:https://www.facebook.com/OCRAbaducanu-108656761731240/?fref=tag
ATTACH;FMTTYPE=image/jpeg:https://cientro.it/wp-content/uploads/2022/02/273825934_662836658394514_2958651898339605764_n.jpg
END:VEVENT
END:VCALENDAR