BEGIN:VCALENDAR
VERSION:2.0
PRODID:-//DP Pro Event Calendar//3.2.6//EN
BEGIN:VEVENT
UID:89adf495-2bb5-4ddf-9e3e-38c19de372f2
DTSTART;TZID=Europe/Rome:20211028T210000
DTEND;TZID=Europe/Rome:20211028T210000
DTSTAMP:20211015T095830Z
SUMMARY:La Notte di Antigone  - Festival Interagendo
DESCRIPTION:Ore 21\,00\r \n \r \n La notte di Antigone ( un' Antigone ispirata alla figura di Ilaria Cucchi)- Festival Interagendo\r \n \r \n Teatro Verdi via Politeama Sassari\r \n \r \n Posto unico € 12\,00 - Ingresso consentito solo con GREEN PASS -
LOCATION:Via Politeama
URL:
ATTACH;FMTTYPE=image/jpeg:https://cientro.it/wp-content/uploads/2021/10/245532446_2108329332649221_6028200383961703715_n-731x1024.jpg
END:VEVENT
END:VCALENDAR